BEGIN:VCALENDAR
VERSION:2.0
PRODID:-//Smokerings &quot;72&quot; Cigar &amp; Pipe - ECPv6.15.20//NONSGML v1.0//EN
CALSCALE:GREGORIAN
METHOD:PUBLISH
X-WR-CALNAME:Smokerings &quot;72&quot; Cigar &amp; Pipe
X-ORIGINAL-URL:https://smokerings72.com
X-WR-CALDESC:Events for Smokerings &quot;72&quot; Cigar &amp; Pipe
REFRESH-INTERVAL;VALUE=DURATION:PT1H
X-Robots-Tag:noindex
X-PUBLISHED-TTL:PT1H
BEGIN:VTIMEZONE
TZID:America/New_York
BEGIN:DAYLIGHT
TZOFFSETFROM:-0500
TZOFFSETTO:-0400
TZNAME:EDT
DTSTART:20230312T070000
END:DAYLIGHT
BEGIN:STANDARD
TZOFFSETFROM:-0400
TZOFFSETTO:-0500
TZNAME:EST
DTSTART:20231105T060000
END:STANDARD
BEGIN:DAYLIGHT
TZOFFSETFROM:-0500
TZOFFSETTO:-0400
TZNAME:EDT
DTSTART:20240310T070000
END:DAYLIGHT
BEGIN:STANDARD
TZOFFSETFROM:-0400
TZOFFSETTO:-0500
TZNAME:EST
DTSTART:20241103T060000
END:STANDARD
BEGIN:DAYLIGHT
TZOFFSETFROM:-0500
TZOFFSETTO:-0400
TZNAME:EDT
DTSTART:20250309T070000
END:DAYLIGHT
BEGIN:STANDARD
TZOFFSETFROM:-0400
TZOFFSETTO:-0500
TZNAME:EST
DTSTART:20251102T060000
END:STANDARD
END:VTIMEZONE
BEGIN:VEVENT
DTSTART;TZID=America/New_York:20240425T170000
DTEND;TZID=America/New_York:20240425T200000
DTSTAMP:20260420T073130
CREATED:20250703T202644Z
LAST-MODIFIED:20250703T202644Z
UID:10001548-1714064400-1714075200@smokerings72.com
SUMMARY:Cut and Light Featuring Room 101 Cigars!
DESCRIPTION:Cut and Light Featuring Room 101 Cigars!\n\n\n\n\n\nCut and Light Featuring Room 101 Cigars!\n\n\n\nJoin us on April 25th from 5-8 pm for our next cut and light featuring Room 101 Cigars! \n\n\n\nThis one has the official Boofy stamp of approval even though he won’t be attending. There will be food\, raffles and cigar deals so come and treat your palate to the fine blends of Matt Booth and enjoy yourself! 
URL:https://smokerings72.com/event/cut-and-light-featuring-room-101-cigars/
LOCATION:Smokerings 72\, 925 N Courtenay Parkway\, Merritt Island\, FL 32953 (321) 453-1422\, 925 N Courtenay Parkway\, Merritt Island\, FL\, 32953\, United States
CATEGORIES:Special Events
ATTACH;FMTTYPE=image/jpeg:https://smokerings72.com/wp-content/uploads/2024/04/night-club-party-flyer.jpg
END:VEVENT
END:VCALENDAR