BEGIN:VCALENDAR
VERSION:2.0
PRODID:-//Smokerings &quot;72&quot; Cigar &amp; Pipe - ECPv6.15.20//NONSGML v1.0//EN
CALSCALE:GREGORIAN
METHOD:PUBLISH
X-WR-CALNAME:Smokerings &quot;72&quot; Cigar &amp; Pipe
X-ORIGINAL-URL:https://smokerings72.com
X-WR-CALDESC:Events for Smokerings &quot;72&quot; Cigar &amp; Pipe
REFRESH-INTERVAL;VALUE=DURATION:PT1H
X-Robots-Tag:noindex
X-PUBLISHED-TTL:PT1H
BEGIN:VTIMEZONE
TZID:America/New_York
BEGIN:DAYLIGHT
TZOFFSETFROM:-0500
TZOFFSETTO:-0400
TZNAME:EDT
DTSTART:20250309T070000
END:DAYLIGHT
BEGIN:STANDARD
TZOFFSETFROM:-0400
TZOFFSETTO:-0500
TZNAME:EST
DTSTART:20251102T060000
END:STANDARD
BEGIN:DAYLIGHT
TZOFFSETFROM:-0500
TZOFFSETTO:-0400
TZNAME:EDT
DTSTART:20260308T070000
END:DAYLIGHT
BEGIN:STANDARD
TZOFFSETFROM:-0400
TZOFFSETTO:-0500
TZNAME:EST
DTSTART:20261101T060000
END:STANDARD
BEGIN:DAYLIGHT
TZOFFSETFROM:-0500
TZOFFSETTO:-0400
TZNAME:EDT
DTSTART:20270314T070000
END:DAYLIGHT
BEGIN:STANDARD
TZOFFSETFROM:-0400
TZOFFSETTO:-0500
TZNAME:EST
DTSTART:20271107T060000
END:STANDARD
END:VTIMEZONE
BEGIN:VEVENT
DTSTART;TZID=America/New_York:20260221T080000
DTEND;TZID=America/New_York:20260221T170000
DTSTAMP:20260421T162816
CREATED:20251218T192845Z
LAST-MODIFIED:20251218T192849Z
UID:10026704-1771660800-1771693200@smokerings72.com
SUMMARY:Karaoke Saturday Nights
DESCRIPTION:Join us for Karaoke on Saturday Nights with Scottie Nation.\n\n\n\nGet your groove on and show us what you got each and every week! \n\n\n\nTell a friend and see you soon! \n\n\n\nEvery Saturday from 7pm-10pm buy one get one free Domestic beers
URL:https://smokerings72.com/event/karaoke-saturday-nights-4/2026-02-21/
LOCATION:Smokerings 72\, 925 N Courtenay Parkway\, Merritt Island\, FL 32953 (321) 453-1422\, 925 N Courtenay Parkway\, Merritt Island\, FL\, 32953\, United States
CATEGORIES:Special Events
ATTACH;FMTTYPE=image/jpeg:https://smokerings72.com/wp-content/uploads/2025/03/Karaoke_update.jpg
END:VEVENT
BEGIN:VEVENT
DTSTART;TZID=America/New_York:20260221T140000
DTEND;TZID=America/New_York:20260221T180000
DTSTAMP:20260421T162816
CREATED:20260128T162506Z
LAST-MODIFIED:20260128T162509Z
UID:10026992-1771682400-1771696800@smokerings72.com
SUMMARY:🎉 We’re Turning 5! 🎉
DESCRIPTION:🎉 We’re Turning 5! 🎉 \n\n\n\nJoin us Saturday\, February 21st from 2–6 PM as we celebrate 5 years of Smoke Rings 72 the best way possible — with a full pig roast and an all-out anniversary party.\n\n\n\n🎟️ Ticket Details:$55 Anniversary Ticket includes:• 3 Mbombay M.Estili Toros• Pig roast meal ticket• 1 house cocktail or draft beer\n\n\n\n$25 Companion Ticket includes:• Pig roast meal ticket• 1 house cocktail or draft beer\n\n\n\n🎫How to Get Tickets:\n\n\n\nTickets can be purchased in-shop or by calling 321-453-1422. Once purchased\, you’ll be added to the list.On the day of the event\, simply check in upon arrival to receive your meal and drink tickets\, and cigars for full ticket holders.\n\n\n\nGreat cigars\, great food\, great drinks\, and even better people. If you’ve ever been part of the Smoke Rings 72 family\, this is the celebration to be at.\n\n\n\nSpots are limited — let’s celebrate 5 years together. 🐖🔥🥃
URL:https://smokerings72.com/event/%f0%9f%8e%89-were-turning-5-%f0%9f%8e%89/
LOCATION:Smokerings 72\, 925 N Courtenay Parkway\, Merritt Island\, FL 32953 (321) 453-1422\, 925 N Courtenay Parkway\, Merritt Island\, FL\, 32953\, United States
CATEGORIES:Parties,Special Events
ATTACH;FMTTYPE=image/jpeg:https://smokerings72.com/wp-content/uploads/2026/01/5-year-anni-party.jpg
END:VEVENT
END:VCALENDAR