BEGIN:VCALENDAR
VERSION:2.0
PRODID:-//Smokerings &quot;72&quot; Cigar &amp; Pipe - ECPv6.15.20//NONSGML v1.0//EN
CALSCALE:GREGORIAN
METHOD:PUBLISH
X-ORIGINAL-URL:https://smokerings72.com
X-WR-CALDESC:Events for Smokerings &quot;72&quot; Cigar &amp; Pipe
REFRESH-INTERVAL;VALUE=DURATION:PT1H
X-Robots-Tag:noindex
X-PUBLISHED-TTL:PT1H
BEGIN:VTIMEZONE
TZID:America/New_York
BEGIN:DAYLIGHT
TZOFFSETFROM:-0500
TZOFFSETTO:-0400
TZNAME:EDT
DTSTART:20200308T070000
END:DAYLIGHT
BEGIN:STANDARD
TZOFFSETFROM:-0400
TZOFFSETTO:-0500
TZNAME:EST
DTSTART:20201101T060000
END:STANDARD
BEGIN:DAYLIGHT
TZOFFSETFROM:-0500
TZOFFSETTO:-0400
TZNAME:EDT
DTSTART:20210314T070000
END:DAYLIGHT
BEGIN:STANDARD
TZOFFSETFROM:-0400
TZOFFSETTO:-0500
TZNAME:EST
DTSTART:20211107T060000
END:STANDARD
BEGIN:DAYLIGHT
TZOFFSETFROM:-0500
TZOFFSETTO:-0400
TZNAME:EDT
DTSTART:20220313T070000
END:DAYLIGHT
BEGIN:STANDARD
TZOFFSETFROM:-0400
TZOFFSETTO:-0500
TZNAME:EST
DTSTART:20221106T060000
END:STANDARD
END:VTIMEZONE
BEGIN:VEVENT
DTSTART;TZID=America/New_York:20210618T140000
DTEND;TZID=America/New_York:20210618T200000
DTSTAMP:20260423T012411
CREATED:20250703T162923Z
LAST-MODIFIED:20250703T162923Z
UID:10000143-1624024800-1624046400@smokerings72.com
SUMMARY:Father's Day Cigar Rolling Party
DESCRIPTION:1st annual Father’s Day cigar rolling event.  Food\, cigars\, raffles\, entertainment and more!   \n\n\n\nEntertainment provided by Salt and Pepper featuring Jonathan Honeycutt by request.  Entertainment begins at 7PM-11PM
URL:https://smokerings72.com/event/fathers-day-cigar-rolling-party/
LOCATION:Smoke Rings ’72 Cigar & Pipe\, 925 N Courtenay Parkway\, Merritt Island FL 32953\, Merritt Island\, FL\, 32953\, United States
CATEGORIES:Parties
ATTACH;FMTTYPE=image/jpeg:https://smokerings72.com/wp-content/uploads/2021/06/20210610_200655_web.jpg
ORGANIZER;CN="Smoke Rings '72":MAILTO:smokeringslou@gmail.com
END:VEVENT
END:VCALENDAR