BEGIN:VCALENDAR
VERSION:2.0
PRODID:-//Smokerings &quot;72&quot; Cigar &amp; Pipe - ECPv6.15.20//NONSGML v1.0//EN
CALSCALE:GREGORIAN
METHOD:PUBLISH
X-WR-CALNAME:Smokerings &quot;72&quot; Cigar &amp; Pipe
X-ORIGINAL-URL:https://smokerings72.com
X-WR-CALDESC:Events for Smokerings &quot;72&quot; Cigar &amp; Pipe
REFRESH-INTERVAL;VALUE=DURATION:PT1H
X-Robots-Tag:noindex
X-PUBLISHED-TTL:PT1H
BEGIN:VTIMEZONE
TZID:America/New_York
BEGIN:DAYLIGHT
TZOFFSETFROM:-0500
TZOFFSETTO:-0400
TZNAME:EDT
DTSTART:20200308T070000
END:DAYLIGHT
BEGIN:STANDARD
TZOFFSETFROM:-0400
TZOFFSETTO:-0500
TZNAME:EST
DTSTART:20201101T060000
END:STANDARD
BEGIN:DAYLIGHT
TZOFFSETFROM:-0500
TZOFFSETTO:-0400
TZNAME:EDT
DTSTART:20210314T070000
END:DAYLIGHT
BEGIN:STANDARD
TZOFFSETFROM:-0400
TZOFFSETTO:-0500
TZNAME:EST
DTSTART:20211107T060000
END:STANDARD
BEGIN:DAYLIGHT
TZOFFSETFROM:-0500
TZOFFSETTO:-0400
TZNAME:EDT
DTSTART:20220313T070000
END:DAYLIGHT
BEGIN:STANDARD
TZOFFSETFROM:-0400
TZOFFSETTO:-0500
TZNAME:EST
DTSTART:20221106T060000
END:STANDARD
END:VTIMEZONE
BEGIN:VEVENT
DTSTART;TZID=America/New_York:20210403T190000
DTEND;TZID=America/New_York:20210403T230000
DTSTAMP:20260423T025430
CREATED:20250703T162923Z
LAST-MODIFIED:20250703T162923Z
UID:10000139-1617476400-1617490800@smokerings72.com
SUMMARY:Damion Suomi at SR72
DESCRIPTION:Damion Suomi Will be joining us at SR72 for the first time this weekend\, come out grab a drink\, a cigar and enjoy!
URL:https://smokerings72.com/event/damion-suomi-at-sr72/
LOCATION:Smoke Rings ’72 Cigar & Pipe\, 925 N Courtenay Parkway\, Merritt Island FL 32953\, Merritt Island\, FL\, 32953\, United States
CATEGORIES:Music,Parties
ATTACH;FMTTYPE=image/jpeg:https://smokerings72.com/wp-content/uploads/2021/04/DamionSuomi.jpg
ORGANIZER;CN="Smoke Rings '72":MAILTO:smokeringslou@gmail.com
END:VEVENT
END:VCALENDAR