BEGIN:VCALENDAR
VERSION:2.0
PRODID:-//Smokerings &quot;72&quot; Cigar &amp; Pipe - ECPv6.15.20//NONSGML v1.0//EN
CALSCALE:GREGORIAN
METHOD:PUBLISH
X-ORIGINAL-URL:https://smokerings72.com
X-WR-CALDESC:Events for Smokerings &quot;72&quot; Cigar &amp; Pipe
REFRESH-INTERVAL;VALUE=DURATION:PT1H
X-Robots-Tag:noindex
X-PUBLISHED-TTL:PT1H
BEGIN:VTIMEZONE
TZID:America/New_York
BEGIN:DAYLIGHT
TZOFFSETFROM:-0500
TZOFFSETTO:-0400
TZNAME:EDT
DTSTART:20230312T070000
END:DAYLIGHT
BEGIN:STANDARD
TZOFFSETFROM:-0400
TZOFFSETTO:-0500
TZNAME:EST
DTSTART:20231105T060000
END:STANDARD
BEGIN:DAYLIGHT
TZOFFSETFROM:-0500
TZOFFSETTO:-0400
TZNAME:EDT
DTSTART:20240310T070000
END:DAYLIGHT
BEGIN:STANDARD
TZOFFSETFROM:-0400
TZOFFSETTO:-0500
TZNAME:EST
DTSTART:20241103T060000
END:STANDARD
BEGIN:DAYLIGHT
TZOFFSETFROM:-0500
TZOFFSETTO:-0400
TZNAME:EDT
DTSTART:20250309T070000
END:DAYLIGHT
BEGIN:STANDARD
TZOFFSETFROM:-0400
TZOFFSETTO:-0500
TZNAME:EST
DTSTART:20251102T060000
END:STANDARD
END:VTIMEZONE
BEGIN:VEVENT
DTSTART;TZID=America/New_York:20240306T000000
DTEND;TZID=America/New_York:20240306T235959
DTSTAMP:20260419T171933
CREATED:20250703T202646Z
LAST-MODIFIED:20250703T202646Z
UID:10024134-1709683200-1709769599@smokerings72.com
SUMMARY:Wine Down Wednesday
DESCRIPTION:Complimentary Glass of Wine With Every Cigar Purchase!\n\n\n\nSelected Red and White Wines All Day
URL:https://smokerings72.com/event/wine-down-wednesday-14/
LOCATION:Smokerings 72\, 925 N Courtenay Parkway\, Merritt Island\, FL 32953 (321) 453-1422\, 925 N Courtenay Parkway\, Merritt Island\, FL\, 32953\, United States
CATEGORIES:Special Events
ATTACH;FMTTYPE=image/jpeg:https://smokerings72.com/wp-content/uploads/2024/01/Wine_Down_wed_lg-e1750787011420.jpg
END:VEVENT
BEGIN:VEVENT
DTSTART;TZID=America/New_York:20240313T000000
DTEND;TZID=America/New_York:20240313T235959
DTSTAMP:20260419T171933
CREATED:20250703T202646Z
LAST-MODIFIED:20250703T202646Z
UID:10024135-1710288000-1710374399@smokerings72.com
SUMMARY:Wine Down Wednesday
DESCRIPTION:Complimentary Glass of Wine With Every Cigar Purchase!\n\n\n\nSelected Red and White Wines All Day
URL:https://smokerings72.com/event/wine-down-wednesday-13/
LOCATION:Smokerings 72\, 925 N Courtenay Parkway\, Merritt Island\, FL 32953 (321) 453-1422\, 925 N Courtenay Parkway\, Merritt Island\, FL\, 32953\, United States
CATEGORIES:Special Events
ATTACH;FMTTYPE=image/jpeg:https://smokerings72.com/wp-content/uploads/2024/01/Wine_Down_wed_lg-e1750787011420.jpg
END:VEVENT
BEGIN:VEVENT
DTSTART;TZID=America/New_York:20240320T000000
DTEND;TZID=America/New_York:20240320T235959
DTSTAMP:20260419T171933
CREATED:20250703T202646Z
LAST-MODIFIED:20250703T202646Z
UID:10024136-1710892800-1710979199@smokerings72.com
SUMMARY:Wine Down Wednesday
DESCRIPTION:Complimentary Glass of Wine With Every Cigar Purchase!\n\n\n\nSelected Red and White Wines All Day
URL:https://smokerings72.com/event/wine-down-wednesday-12/
LOCATION:Smokerings 72\, 925 N Courtenay Parkway\, Merritt Island\, FL 32953 (321) 453-1422\, 925 N Courtenay Parkway\, Merritt Island\, FL\, 32953\, United States
CATEGORIES:Special Events
ATTACH;FMTTYPE=image/jpeg:https://smokerings72.com/wp-content/uploads/2024/01/Wine_Down_wed_lg-e1750787011420.jpg
END:VEVENT
BEGIN:VEVENT
DTSTART;TZID=America/New_York:20240327T000000
DTEND;TZID=America/New_York:20240327T235959
DTSTAMP:20260419T171933
CREATED:20250703T202646Z
LAST-MODIFIED:20250703T202646Z
UID:10024137-1711497600-1711583999@smokerings72.com
SUMMARY:Wine Down Wednesday
DESCRIPTION:Complimentary Glass of Wine With Every Cigar Purchase!\n\n\n\nSelected Red and White Wines All Day
URL:https://smokerings72.com/event/wine-down-wednesday-11/
LOCATION:Smokerings 72\, 925 N Courtenay Parkway\, Merritt Island\, FL 32953 (321) 453-1422\, 925 N Courtenay Parkway\, Merritt Island\, FL\, 32953\, United States
CATEGORIES:Special Events
ATTACH;FMTTYPE=image/jpeg:https://smokerings72.com/wp-content/uploads/2024/01/Wine_Down_wed_lg-e1750787011420.jpg
END:VEVENT
BEGIN:VEVENT
DTSTART;TZID=America/New_York:20240328T170000
DTEND;TZID=America/New_York:20240328T200000
DTSTAMP:20260419T171933
CREATED:20250703T202646Z
LAST-MODIFIED:20250703T202646Z
UID:10001547-1711645200-1711656000@smokerings72.com
SUMMARY:Cut and Light With Z from Cordoba and Morales
DESCRIPTION:Cut and Light With Z from Cordoba and Morales\n\n\n\n\n\nJoin us for our next Cut and Light! \n\n\n\nThursday March 28th\, 2024 from 5-8pm \n\n\n\n“Z from Cordoba and Morales will be here and we will be featuring a few of his new Cigars “Empire” and “Raspadura”.  You don’t want to miss out on all the deals\, raffles and of course food! See you then! 
URL:https://smokerings72.com/event/cut-and-light-with-z-from-cordoba-and-morales/
LOCATION:Smokerings 72\, 925 N Courtenay Parkway\, Merritt Island\, FL 32953 (321) 453-1422\, 925 N Courtenay Parkway\, Merritt Island\, FL\, 32953\, United States
CATEGORIES:Special Events
ATTACH;FMTTYPE=image/jpeg:https://smokerings72.com/wp-content/uploads/2024/03/Mar28_24CutandLight_web.jpg
END:VEVENT
END:VCALENDAR